BEGIN:VCALENDAR
VERSION:2.0
PRODID:-//ChamberMaster//Event Calendar 2.0//EN
METHOD:PUBLISH
X-PUBLISHED-TTL:P3D
REFRESH-INTERVAL:P3D
CALSCALE:GREGORIAN
BEGIN:VEVENT
DTSTART:20221008T160000Z
DTEND:20221008T230000Z
X-MICROSOFT-CDO-ALLDAYEVENT:FALSE
SUMMARY:Family Fun Day
DESCRIPTION:Family Fun Day \n\n\n\nDunking Booth \n\nGames for kids\n\nSilent auction\n\nCake walk\n\n\n\nFish Fry Dinner $10 a plate
X-ALT-DESC;FMTTYPE=text/html:Family Fun Day&nbsp\;<br />\n<br />\nDunking Booth&nbsp\;<br />\nGames for kids<br />\nSilent auction<br />\nCake walk<br />\n<br />\nFish Fry Dinner $10 a plate
LOCATION:Our Lady of the Assumption Catholic Church 2414 Main St. Ingleside\, TX
UID:e.1295.7341
SEQUENCE:3
DTSTAMP:20260423T212511Z
URL:https://events.gtswebdesign.com/events/details/family-fun-day-7341
END:VEVENT

END:VCALENDAR
