BEGIN:VCALENDAR
VERSION:2.0
PRODID:-//ChamberMaster//Event Calendar 2.0//EN
METHOD:PUBLISH
X-PUBLISHED-TTL:P3D
REFRESH-INTERVAL:P3D
CALSCALE:GREGORIAN
BEGIN:VEVENT
DTSTART:20221117T230000Z
DTEND:20221118T010000Z
X-MICROSOFT-CDO-ALLDAYEVENT:FALSE
SUMMARY:Fall Feast Thursday\, November 17th 5pm
DESCRIPTION:9th Annual Aransas Pass Fall Feast\n\nCalling all Aransas Pass Businesses!  You are invited to be part of this years Fall Feast!\n\n-Sponsor the event\n\n-Volunteer\n\n-Host a Family Fun Action Station\n\n\n\nWelcome to the dinner table!  A night of community and giving Thanks!
X-ALT-DESC;FMTTYPE=text/html:9th Annual Aransas Pass Fall Feast<br />\nCalling all Aransas Pass Businesses!&nbsp\; You are invited to be part of this years Fall Feast!<br />\n-Sponsor the event<br />\n-Volunteer<br />\n-Host a Family Fun Action Station<br />\n<br />\nWelcome to the dinner table!&nbsp\; A night of community and giving Thanks!<br />\n&nbsp\;
LOCATION:Aransas Pass Civic Center 700 W Wheeler Ave Aransas Pass\, Tx. 78336
UID:e.1295.7337
SEQUENCE:3
DTSTAMP:20260423T182152Z
URL:https://events.gtswebdesign.com/events/details/fall-feast-thursday-november-17th-5pm-7337
END:VEVENT

END:VCALENDAR
