BEGIN:VCALENDAR
VERSION:2.0
PRODID:-//ChamberMaster//Event Calendar 2.0//EN
METHOD:PUBLISH
X-PUBLISHED-TTL:P3D
REFRESH-INTERVAL:P3D
CALSCALE:GREGORIAN
BEGIN:VEVENT
DTSTART:20221015T230000Z
DTEND:20221016T033000Z
X-MICROSOFT-CDO-ALLDAYEVENT:FALSE
SUMMARY:Denim & Diamonds Casino Night
DESCRIPTION:Fundraiser benefitting the San Pat SPCA animal shelter. Gambling\, live music by The ScareCrow People\, dinner from The Butterchurn\, photo booth\, raffle items\, door prizes and grand prizes for the top gambling winners.
X-ALT-DESC;FMTTYPE=text/html:Fundraiser benefitting the San Pat SPCA animal shelter. Gambling\, live music by The ScareCrow People\, dinner from The Butterchurn\, photo booth\, raffle items\, door prizes and grand prizes for the top gambling winners.
LOCATION:Aransas Pass Civic Center
UID:e.1295.7324
SEQUENCE:3
DTSTAMP:20260423T212629Z
URL:https://events.gtswebdesign.com/events/details/denim-diamonds-casino-night-7324
END:VEVENT

END:VCALENDAR
