BEGIN:VCALENDAR
VERSION:2.0
PRODID:-//ChamberMaster//Event Calendar 2.0//EN
METHOD:PUBLISH
X-PUBLISHED-TTL:P3D
REFRESH-INTERVAL:P3D
CALSCALE:GREGORIAN
BEGIN:VEVENT
DTSTART:20221108T140000Z
DTEND:20221108T210000Z
X-MICROSOFT-CDO-ALLDAYEVENT:FALSE
SUMMARY:College Fair Tuesday\, November 8\, 2022
DESCRIPTION:College Fair \n\nPlease RSVP by October 21\, 2022 to reserve your spot or sponsorship.
X-ALT-DESC;FMTTYPE=text/html:<strong>College Fair&nbsp\;</strong><br />\nPlease RSVP by October 21\, 2022 to reserve your spot or sponsorship.
LOCATION:Aransas Pass High School 450 S Avenue A\, Aransas Pass\, Tx. 78336
UID:e.1295.7326
SEQUENCE:3
DTSTAMP:20260423T183123Z
URL:https://events.gtswebdesign.com/events/details/college-fair-tuesday-november-8-2022-7326
END:VEVENT

END:VCALENDAR
