BEGIN:VCALENDAR
VERSION:2.0
PRODID:-//ChamberMaster//Event Calendar 2.0//EN
METHOD:PUBLISH
X-PUBLISHED-TTL:P3D
REFRESH-INTERVAL:P3D
CALSCALE:GREGORIAN
BEGIN:VEVENT
DTSTART:20210403T140000Z
DTEND:20210403T203000Z
X-MICROSOFT-CDO-ALLDAYEVENT:FALSE
SUMMARY:Coastal Bend Custom & Classic Car Show
DESCRIPTION:Click Here for more info!
X-ALT-DESC;FMTTYPE=text/html:<strong><span style="font-size:14px\;"><span style="font-family:arial\;"><a href="https://www.facebook.com/coastalbendcustomcarshow">Click Here</a> for more info!</span></span></strong>
LOCATION:Aransas Pass Civic Center 700 W. Wheeler Ave. Aransas Pass\, TX 78336
UID:e.1295.7164
SEQUENCE:3
DTSTAMP:20260424T235917Z
URL:https://events.gtswebdesign.com/events/details/coastal-bend-custom-classic-car-show-7164
END:VEVENT

END:VCALENDAR
