BEGIN:VCALENDAR
VERSION:2.0
PRODID:-//ChamberMaster//Event Calendar 2.0//EN
METHOD:PUBLISH
X-PUBLISHED-TTL:P3D
REFRESH-INTERVAL:P3D
CALSCALE:GREGORIAN
BEGIN:VEVENT
DTSTART:20230505T170000Z
DTEND:20230506T000000Z
X-MICROSOFT-CDO-ALLDAYEVENT:FALSE
SUMMARY:Cinco de Mayo Market Days - Ingleside Garden Club
DESCRIPTION:Cinco de Mayo Market Days\n\n*SILENT AUCTION *RAFFLE *PROGRAMS\n\nFundraiser by the Ingleside Garden Club\, a 501c Charity. Funds raised will go for Ingleside Beautification\, Scholarships\, and other community projects.\n\nFriday\, May 5\, 2023 - Noon to 7PM & Saturday\, May 6\, 2023 - 10AM to 3PM\n\n\n\nSponsors\, Auction Donors & Vendors WANTED\n\nFor more information: www.facebook.com/events/3489421407958056\n\nor call Martha (361) 790-6192
X-ALT-DESC;FMTTYPE=text/html:<span style="font-size:16px\;"><span style="font-family:arial\;">Cinco de Mayo Market Days<br />\n<span style="color: rgb(51\, 51\, 51)\; background-color: rgb(255\, 255\, 255)\;">*SILENT AUCTION *RAFFLE *PROGRAMS</span><br />\nFundraiser by the Ingleside Garden Club\, a 501c Charity. Funds raised will go for Ingleside Beautification\, Scholarships\, and other community projects.<br />\nFriday\, May 5\, 2023 - Noon to 7PM &amp\; Saturday\, May 6\, 2023 - 10AM to 3PM<br />\n<br />\n<span style="color: rgb(51\, 51\, 51)\; background-color: rgb(255\, 255\, 255)\;">Sponsors\, Auction Donors &amp\; Vendors WANTED</span><br style="color: rgb(51\, 51\, 51)\; font-family: sans-serif\, Arial\, Verdana\, &quot\;Trebuchet MS&quot\;\; font-size: 13px\;" />\n<span style="color: rgb(51\, 51\, 51)\; background-color: rgb(255\, 255\, 255)\;">For more information: www.facebook.com/events/3489421407958056</span><br style="color: rgb(51\, 51\, 51)\; font-family: sans-serif\, Arial\, Verdana\, &quot\;Trebuchet MS&quot\;\; font-size: 13px\;" />\n<span style="color: rgb(51\, 51\, 51)\; background-color: rgb(255\, 255\, 255)\;">or call Martha (361) 790-6192</span></span></span><br />\n<br />\n&nbsp\;
LOCATION:N.O. Simmons Park 2355 State Hwy 361 Ingleside\, TX 78362
UID:e.1295.7448
SEQUENCE:3
DTSTAMP:20260423T102819Z
URL:https://events.gtswebdesign.com/events/details/cinco-de-mayo-market-days-ingleside-garden-club-7448
END:VEVENT

END:VCALENDAR
