BEGIN:VCALENDAR
VERSION:2.0
PRODID:-//ChamberMaster//Event Calendar 2.0//EN
METHOD:PUBLISH
X-PUBLISHED-TTL:P3D
REFRESH-INTERVAL:P3D
CALSCALE:GREGORIAN
BEGIN:VEVENT
DTSTART:20231125T160000Z
DTEND:20231126T000000Z
X-MICROSOFT-CDO-ALLDAYEVENT:FALSE
SUMMARY:Christmas in Aransas Pass
DESCRIPTION:Christmas in Aransas Pass \n\nCraft Vendors\, Free Photo Opportunities\, Music & Dancers\, Food Trucks\, Santa Claus!\n\n\n\nFree Photo Opportunities Christmas Decorated Display\n\nLighting of Downtown 6 PM\n\n\n\n*Dogs Welcome!
X-ALT-DESC;FMTTYPE=text/html:Christmas in Aransas Pass&nbsp\;<br />\nCraft Vendors\, Free Photo Opportunities\, Music &amp\; Dancers\, Food Trucks\, Santa Claus!<br />\n<br />\nFree Photo Opportunities Christmas Decorated Display<br />\nLighting of Downtown 6 PM<br />\n<br />\n*Dogs Welcome!
LOCATION:Downtown Aransas Pass 203-360 S Commercial Street Aransas Pass\, TX 78336
UID:e.1295.7900
SEQUENCE:3
DTSTAMP:20260422T233504Z
URL:https://events.gtswebdesign.com/events/details/christmas-in-aransas-pass-7900
END:VEVENT

END:VCALENDAR
