BEGIN:VCALENDAR
VERSION:2.0
PRODID:-//ChamberMaster//Event Calendar 2.0//EN
METHOD:PUBLISH
X-PUBLISHED-TTL:P3D
REFRESH-INTERVAL:P3D
CALSCALE:GREGORIAN
BEGIN:VEVENT
DTSTART:20211113T180000Z
DTEND:20211114T180000Z
X-MICROSOFT-CDO-ALLDAYEVENT:FALSE
SUMMARY:Christmas By The Bay 13th-14th
DESCRIPTION:Come shop the 9th annual Christmas By The Bay coming to the Aransas Pass Civic Center (700 W. Wheeler ~ Aransas Pass\, TX)\, November 13-14\, 2021.\n\n\n\nVendors are bringing the best in clothing\, gifts\, jewelry\, gourmet food\, jewelry\, Texas handmade\, gifts for the guys\, holiday and home decor\, candles\, photography\, and much more.\n\n\n\nShow hours are Sat. 10-5 and Sun. 11-4.\n\n\n\nFor more info call 888-225-3427.\n\n \n\nAdmission is $5 or $4 with your non-perishable food donation to the food pantry. Kids 12 and under are FREE and your admission is always good for both days.
X-ALT-DESC;FMTTYPE=text/html:<span style="background:white\;"><span style="color:#050505\;"><span style="font-family:arial\,sans-serif\;"><span style="font-size:10.5pt\;">Come shop the 9th annual Christmas By The Bay coming to the Aransas Pass Civic Center (700 W. Wheeler ~ Aransas Pass\, TX)\, November 13-14\, 2021.</span></span></span></span><br />\n<br />\n<span style="background:white\;"><span style="color:#050505\;"><span style="font-family:arial\,sans-serif\;"><span style="font-size:10.5pt\;">Vendors are bringing the best in clothing\, gifts\, jewelry\, gourmet food\, jewelry\, Texas handmade\, gifts for the guys\, holiday and home decor\, candles\, photography\, and much more.</span></span></span></span><br />\n<br />\n<span style="color:#050505\;"><span style="font-family:arial\,sans-serif\;"><span style="font-size:10.5pt\;"><span style="background:white\;">Show hours are Sat. 10-5 and Sun. 11-4.</span><br />\n<br />\n<strong><span style="background:white\;">For more info call 888-225-3427.</span></strong></span></span></span><br />\n&nbsp\;<br />\n<span style="background:white\;"><span style="color:#050505\;"><span style="font-family:arial\,sans-serif\;"><span style="font-size:10.5pt\;">Admission is $5 or $4 with your non-perishable food donation to the food pantry. Kids 12 and under are FREE and your admission is always good for both days.</span></span></span></span>
LOCATION:
UID:e.1295.7257
SEQUENCE:3
DTSTAMP:20260424T113456Z
URL:https://events.gtswebdesign.com/events/details/christmas-by-the-bay-13th-14th-11-13-2021-7257
END:VEVENT

END:VCALENDAR
