BEGIN:VCALENDAR
VERSION:2.0
PRODID:-//ChamberMaster//Event Calendar 2.0//EN
METHOD:PUBLISH
X-PUBLISHED-TTL:P3D
REFRESH-INTERVAL:P3D
CALSCALE:GREGORIAN
BEGIN:VEVENT
DTSTART;VALUE=DATE:20230102
DTEND;VALUE=DATE:20230103
TRANSP:TRANSPARENT
X-MICROSOFT-CDO-ALLDAYEVENT:TRUE
SUMMARY:Chamber Office Closed for the New Year's Holiday!
DESCRIPTION:"Chamber Office Closed Monday January 2\, 2023 for the New Year's Holiday."\nNormal office hours will resume on Tuesday January 3\, 2023 at 8:30 am.
X-ALT-DESC;FMTTYPE=text/html:<span style="color: rgb(51\, 51\, 51)\; font-family: sans-serif\, Arial\, Verdana\, &quot\;Trebuchet MS&quot\;\; font-size: 14px\;"><span style="font-family: arial\;">&ldquo\;Chamber Office Closed Monday January 2\, 2023 for the New Year&#39\;s Holiday.&rdquo\;</span></span>\n<div style="color: rgb(51\, 51\, 51)\; font-family: sans-serif\, Arial\, Verdana\, &quot\;Trebuchet MS&quot\;\; font-size: 13px\;"><span style="font-size: 14px\;"><span style="font-family: arial\;">Normal office hours will resume on Tuesday January 3\, 2023&nbsp\;at 8:30 am.</span></span></div>\n
LOCATION:
UID:e.1295.7376
SEQUENCE:3
DTSTAMP:20260423T165323Z
URL:https://events.gtswebdesign.com/events/details/chamber-office-closed-for-the-new-year-s-holiday-7376
END:VEVENT

END:VCALENDAR
