BEGIN:VCALENDAR
VERSION:2.0
PRODID:-//ChamberMaster//Event Calendar 2.0//EN
METHOD:PUBLISH
X-PUBLISHED-TTL:P3D
REFRESH-INTERVAL:P3D
CALSCALE:GREGORIAN
BEGIN:VEVENT
DTSTART;VALUE=DATE:20221226
DTEND;VALUE=DATE:20221227
TRANSP:TRANSPARENT
X-MICROSOFT-CDO-ALLDAYEVENT:TRUE
SUMMARY:“Chamber Office Closed for the Holidays.”
DESCRIPTION:"Chamber Office Closed for the Holidays."\nNormal office hours will resume on Tuesday December 27\, 2022 \n\nat 8:30 am
X-ALT-DESC;FMTTYPE=text/html:<span style="color: rgb(51\, 51\, 51)\; font-family: sans-serif\, Arial\, Verdana\, &quot\;Trebuchet MS&quot\;\; font-size: 14px\;"><span style="font-family: arial\;">&ldquo\;Chamber Office Closed for the Holidays.&rdquo\;</span></span>\n<div style="color: rgb(51\, 51\, 51)\; font-family: sans-serif\, Arial\, Verdana\, &quot\;Trebuchet MS&quot\;\; font-size: 13px\;"><span style="font-size: 14px\;"><span style="font-family: arial\;">Normal office hours will resume on Tuesday December 27\, 2022&nbsp\;<br />\nat 8:30 am</span></span></div>\n
LOCATION:
UID:e.1295.7370
SEQUENCE:3
DTSTAMP:20260423T165035Z
URL:https://events.gtswebdesign.com/events/details/chamber-office-closed-for-the-holidays-7370
END:VEVENT

END:VCALENDAR
