BEGIN:VCALENDAR
VERSION:2.0
PRODID:-//ChamberMaster//Event Calendar 2.0//EN
METHOD:PUBLISH
X-PUBLISHED-TTL:P3D
REFRESH-INTERVAL:P3D
CALSCALE:GREGORIAN
BEGIN:VEVENT
DTSTART:20231015T190000Z
DTEND:20231015T190000Z
X-MICROSOFT-CDO-ALLDAYEVENT:FALSE
SUMMARY:Bowling Tournament - Maxine Flournoy 3rd Coast Squadron
DESCRIPTION:Maxine Flournoy 3rd Coast Squadron Presents Bowling Tournament.\n\nSunday October 15th. 2:00PM @ CM Lanes\n\n$350 per team\, drinks and pizza included.\n\nFor more information call: Robert 361-230-9034 or Frances 903-640-3557
X-ALT-DESC;FMTTYPE=text/html:Maxine Flournoy 3rd Coast Squadron Presents Bowling Tournament.<br />\nSunday October 15th. 2:00PM @ CM Lanes<br />\n$350 per team\, drinks and pizza included.<br />\nFor more information call: Robert 361-230-9034 or Frances 903-640-3557
LOCATION:CM Lanes 2285 W. Wheeler Ave. Aransas Pass\, TX 78336
UID:e.1295.8030
SEQUENCE:3
DTSTAMP:20260423T010741Z
URL:https://events.gtswebdesign.com/events/details/bowling-tournament-maxine-flournoy-3rd-coast-squadron-8030
END:VEVENT

END:VCALENDAR
