BEGIN:VCALENDAR
VERSION:2.0
PRODID:-//ChamberMaster//Event Calendar 2.0//EN
METHOD:PUBLISH
X-PUBLISHED-TTL:P3D
REFRESH-INTERVAL:P3D
CALSCALE:GREGORIAN
BEGIN:VEVENT
DTSTART:20230909T153000Z
DTEND:20230909T153000Z
X-MICROSOFT-CDO-ALLDAYEVENT:FALSE
SUMMARY:Bowling Tournament - AP Rotary Cares Foundation
DESCRIPTION:AP Rotary Cares Foundation presents 2nd Annual Bowling Tournament.\n\nThink you've got what it takes? Join our fundraising competition!\n\nSeptember 9th 10:30 AM - CM Lanes Bowling Alley\n\nFor more information call (361) 717-4559
X-ALT-DESC;FMTTYPE=text/html:AP Rotary Cares Foundation presents 2nd Annual Bowling Tournament.<br />\nThink you&#39\;ve got what it takes? Join our fundraising competition!<br />\nSeptember 9th 10:30 AM - CM Lanes Bowling Alley<br />\nFor more information call (361) 717-4559<br />\n&nbsp\;
LOCATION:CM Lanes 2285 W Wheeler Ave. Aransas Pass\, TX 78336
UID:e.1295.8029
SEQUENCE:3
DTSTAMP:20260423T024842Z
URL:https://events.gtswebdesign.com/events/details/bowling-tournament-ap-rotary-cares-foundation-8029
END:VEVENT

END:VCALENDAR
