BEGIN:VCALENDAR
VERSION:2.0
PRODID:-//ChamberMaster//Event Calendar 2.0//EN
METHOD:PUBLISH
X-PUBLISHED-TTL:P3D
REFRESH-INTERVAL:P3D
CALSCALE:GREGORIAN
BEGIN:VEVENT
DTSTART;VALUE=DATE:20220917
DTEND;VALUE=DATE:20220918
TRANSP:TRANSPARENT
X-MICROSOFT-CDO-ALLDAYEVENT:TRUE
SUMMARY:Bikes on the Bay: Poker Run & Festival 9/17/22
DESCRIPTION:Fierce Advertising along with The Patel Law Firm Personal Injury Lawyers Present the 2nd Annual Bikes on the Bay. Poker Run & Music Fest.\n\n\n\nAbout this event\n\n\n\n\nFierce Advertising and Promotions along with The Patel Law Firm Personal Injury Lawyers Present the 2nd Annual Bikes on the Bay on September 17th 2022 in Corpus Christi. Bikes on the Bay is a Poker style Motorcycle and Hot Rod Run around the Corpus Christi Bay with an all afternoon Music Fest and shopping all Starting and ending at Vernon's Bar.\n\nT his Year's event will Benefit Heroes on the Water - Coastal Bend Chapter. This event allows Heroes on the Water\, nonprofit organization\, to provide prime kayak fishing adventures\, healing\, therapy\, bonding\, and camaraderie free to area veterans.** 100 % of All Bike entry Proceeds benefit Hero's on the Water**\n\n**All bike and Hot Rod entries are $25 Each**\n\nRide Stop Locations: (Start)V ernon's 1)BoatHouse Bar and Grill 2)Salty Dog Saloon 3) Bernie's Beach House 4)Pook's Pub 5)Twisted Apes Bar and Grill 6)Blue Marlin Saloon (END) Vernon's\n\n* *Best Hand Wins $1200 and Worst Hand Wins $200** Plus bragging Right Trophies.\n\nV ENDORS  LIVE MUSIC  DRINK SPECIALS FOOD TRUCKS
X-ALT-DESC;FMTTYPE=text/html:<div class="eds-l-mar-bot-8" style="margin: 0px 0px 32px\; padding: 0px\; color: rgb(57\, 54\, 79)\; font-family: &quot\;Neue Plak&quot\;\, -apple-system\, BlinkMacSystemFont\, Roboto\, &quot\;Helvetica Neue&quot\;\, Helvetica\, Tahoma\, Arial\, sans-serif\; font-size: 14.9333px\; letter-spacing: 0.5px\; background-color: rgb(255\, 255\, 255)\;">\n<p class="eds-text-bm" style="margin: 0px\; padding: 0px\; text-rendering: optimizelegibility\; font-size: 0.875rem\; line-height: 1.25rem\;"><span class="event-info__description-items" style="font-weight: 700\;">Fierce Advertising along with The Patel Law Firm Personal Injury Lawyers Present the 2nd Annual Bikes on the Bay. Poker Run &amp\; Music Fest.</span></p>\n</div>\n\n<div class="eds-l-mar-bot-8 structured-content" style="margin: 0px 0px 32px\; padding: 0px\; color: rgb(57\, 54\, 79)\; font-family: &quot\;Neue Plak&quot\;\, -apple-system\, BlinkMacSystemFont\, Roboto\, &quot\;Helvetica Neue&quot\;\, Helvetica\, Tahoma\, Arial\, sans-serif\; font-size: 14.9333px\; letter-spacing: 0.5px\; background-color: rgb(255\, 255\, 255)\;">\n<h2 class="eds-text-bl eds-l-mar-bot-4" style="margin: 0px -0.25px 16px 0px\; padding: 0px\; text-rendering: optimizelegibility\; font-size: 1.125rem\; line-height: 1.5rem\; letter-spacing: 0.25px\;">About this event</h2>\n\n<div class="has-user-generated-content" style="margin: 0px\; padding: 0px\;">\n<div class="eds-l-mar-vert-6 eds-l-sm-mar-vert-4 eds-text-bm structured-content-rich-text" style="margin: 24px 0px\; padding: 0px\; text-rendering: optimizelegibility\; font-size: 0.875rem\; line-height: 1.25rem\;">\n<div class="eds-text--left" style="margin: 0px\; padding: 0px\;">\n<p style="margin: 0px\; padding: 0px\; color: rgb(111\, 114\, 135)\; font-size: 16px\; line-height: 1.5rem\;">Fierce Advertising and Promotions along with The Patel Law Firm Personal Injury Lawyers Present the 2nd Annual Bikes on the Bay on September 17th 2022 in Corpus Christi. Bikes on the Bay is a Poker style Motorcycle and Hot Rod Run around the Corpus Christi Bay with an all afternoon Music Fest and shopping all Starting and ending at Vernon&#39\;s Bar.</p>\n\n<p style="margin: 0px\; padding: 10px 0px 0px\; color: rgb(111\, 114\, 135)\; font-size: 16px\; line-height: 1.5rem\;">T&#65279\;his Year&#39\;s event will Benefit Heroes on the Water - Coastal Bend Chapter. This event allows Heroes on the Water\, nonprofit organization\, to provide prime kayak fishing adventures\, healing\, therapy\, bonding\, and camaraderie free to area veterans.** 100 % of All Bike entry Proceeds benefit Hero&#39\;s on the Water**</p>\n\n<p style="margin: 0px\; padding: 10px 0px 0px\; color: rgb(111\, 114\, 135)\; font-size: 16px\; line-height: 1.5rem\;">**All bike and Hot Rod entries are $25 Each**</p>\n\n<p style="margin: 0px\; padding: 10px 0px 0px\; color: rgb(111\, 114\, 135)\; font-size: 16px\; line-height: 1.5rem\;">Ride Stop Locations: (Start)V&#65279\;ernon&#39\;s 1)BoatHouse Bar and Grill 2)Salty Dog Saloon 3) Bernie&#39\;s Beach House 4)Pook&#39\;s Pub 5)Twisted Apes Bar and Grill 6)Blue Marlin Saloon (END) Vernon&#39\;s</p>\n\n<p style="margin: 0px\; padding: 10px 0px 0px\; color: rgb(111\, 114\, 135)\; font-size: 16px\; line-height: 1.5rem\;">*&#65279\;*Best Hand Wins $1200 and Worst Hand Wins $200** Plus bragging Right Trophies.</p>\n\n<p style="margin: 0px\; padding: 10px 0px 0px\; color: rgb(111\, 114\, 135)\; font-size: 16px\; line-height: 1.5rem\;">V&#65279\;ENDORS&lt\; LIVE MUSIC&lt\; DRINK SPECIALS&gt\;FOOD TRUCKS&gt\;</p>\n</div>\n</div>\n</div>\n</div>\n
LOCATION:Click here for more information and the Eventbrite registration.
UID:e.1295.7336
SEQUENCE:3
DTSTAMP:20260423T213831Z
URL:https://events.gtswebdesign.com/events/details/bikes-on-the-bay-poker-run-festival-9-17-22-7336
END:VEVENT

END:VCALENDAR
