BEGIN:VCALENDAR
VERSION:2.0
PRODID:-//ChamberMaster//Event Calendar 2.0//EN
METHOD:PUBLISH
X-PUBLISHED-TTL:P3D
REFRESH-INTERVAL:P3D
CALSCALE:GREGORIAN
BEGIN:VEVENT
DTSTART;VALUE=DATE:20220902
DTEND;VALUE=DATE:20220904
TRANSP:TRANSPARENT
X-MICROSOFT-CDO-ALLDAYEVENT:TRUE
SUMMARY:Aransas Pass VFW Market Days
DESCRIPTION:AP VFW Market Days 2 Day Event
X-ALT-DESC;FMTTYPE=text/html:AP VFW Market Days 2 Day Event&nbsp\;
LOCATION:
UID:e.1295.7310
SEQUENCE:3
DTSTAMP:20260423T213312Z
URL:https://events.gtswebdesign.com/events/details/aransas-pass-vfw-market-days-7310
END:VEVENT

END:VCALENDAR
