BEGIN:VCALENDAR
VERSION:2.0
PRODID:-//ChamberMaster//Event Calendar 2.0//EN
METHOD:PUBLISH
X-PUBLISHED-TTL:P3D
REFRESH-INTERVAL:P3D
CALSCALE:GREGORIAN
BEGIN:VEVENT
DTSTART;VALUE=DATE:20210612
DTEND;VALUE=DATE:20210614
TRANSP:TRANSPARENT
X-MICROSOFT-CDO-ALLDAYEVENT:TRUE
SUMMARY:Aransas Pass Hunting & Fishing Expo and the Redfish Bay Kayak Fishing Tournament
DESCRIPTION:Hunting & Fishing Expo at the Aransas Pass Civic Center along with the Redfish Bay Kayak Fishing Tournament.\n\nFor more information contact Costal Bend Kayak at (361) 557-7003.
X-ALT-DESC;FMTTYPE=text/html:Hunting &amp\; Fishing Expo at the Aransas Pass&nbsp\;Civic Center along with the Redfish Bay Kayak Fishing Tournament.<br />\nFor more information contact Costal Bend Kayak at (361) 557-7003.&nbsp\;
LOCATION:700 W. Wheeler\, Aransas Pass\, TX 78336
UID:e.1295.7178
SEQUENCE:3
DTSTAMP:20260424T210040Z
URL:https://events.gtswebdesign.com/events/details/aransas-pass-hunting-fishing-expo-and-the-redfish-bay-kayak-fishing-tournament-7178
END:VEVENT

END:VCALENDAR
