BEGIN:VCALENDAR
VERSION:2.0
PRODID:-//ChamberMaster//Event Calendar 2.0//EN
METHOD:PUBLISH
X-PUBLISHED-TTL:P3D
REFRESH-INTERVAL:P3D
CALSCALE:GREGORIAN
BEGIN:VEVENT
DTSTART:20221214T150000Z
DTEND:20221214T210000Z
X-MICROSOFT-CDO-ALLDAYEVENT:FALSE
SUMMARY:APISD Holiday Open House
DESCRIPTION:Aransas Pass ISD Holiday Open House\n\nAdministrative Office December 14 2022 \n\n9AM - 3PM
X-ALT-DESC;FMTTYPE=text/html:Aransas Pass ISD Holiday Open House<br />\nAdministrative Office December 14 2022&nbsp\;<br />\n9AM - 3PM
LOCATION:Aransas Pass ISD Administrative Office 748 West Goodnight Ave Aransas Pass\, TX 78336
UID:e.1295.7366
SEQUENCE:3
DTSTAMP:20260423T164953Z
URL:https://events.gtswebdesign.com/events/details/apisd-holiday-open-house-7366
END:VEVENT

END:VCALENDAR
