BEGIN:VCALENDAR
VERSION:2.0
PRODID:-//ChamberMaster//Event Calendar 2.0//EN
METHOD:PUBLISH
X-PUBLISHED-TTL:P3D
REFRESH-INTERVAL:P3D
CALSCALE:GREGORIAN
BEGIN:VEVENT
DTSTART:20221224T010000Z
DTEND:20221224T040000Z
X-MICROSOFT-CDO-ALLDAYEVENT:FALSE
SUMMARY:Alex Reyes and Friends Christmas Comedy Show
DESCRIPTION:Christmas Comedy show with Alex Reyes and Friends. Families Friendly
X-ALT-DESC;FMTTYPE=text/html:Christmas Comedy show with Alex Reyes and Friends. Families Friendly&nbsp\;
LOCATION:The Rialto Theater 327 S. Commercial St. Aransas Pass Tx. 78336
UID:e.1295.7367
SEQUENCE:3
DTSTAMP:20260423T165313Z
URL:https://events.gtswebdesign.com/events/details/alex-reyes-and-friends-christmas-comedy-show-7367
END:VEVENT

END:VCALENDAR
