BEGIN:VCALENDAR
VERSION:2.0
PRODID:-//ChamberMaster//Event Calendar 2.0//EN
METHOD:PUBLISH
X-PUBLISHED-TTL:P3D
REFRESH-INTERVAL:P3D
CALSCALE:GREGORIAN
BEGIN:VEVENT
DTSTART:20240221T223000Z
DTEND:20240222T003000Z
X-MICROSOFT-CDO-ALLDAYEVENT:FALSE
SUMMARY:After Hours Business Mixer
DESCRIPTION:After Hours Business Mixer Hosted by SPCA of San Patricio County - @ Texas Pride Sports Bar & Grill.
X-ALT-DESC;FMTTYPE=text/html:After Hours Business Mixer Hosted by SPCA of San Patricio County - @ Texas Pride Sports Bar &amp\; Grill.
LOCATION:Texas Pride Sports Bar & Grill 3792 FM 1069 Aransas Pass\, TX 78336
UID:e.1295.8071
SEQUENCE:3
DTSTAMP:20260422T191728Z
URL:https://events.gtswebdesign.com/events/details/after-hours-business-mixer-8071
END:VEVENT

END:VCALENDAR
