BEGIN:VCALENDAR
VERSION:2.0
PRODID:-//ChamberMaster//Event Calendar 2.0//EN
METHOD:PUBLISH
X-PUBLISHED-TTL:P3D
REFRESH-INTERVAL:P3D
CALSCALE:GREGORIAN
BEGIN:VEVENT
DTSTART:20210911T200000Z
DTEND:20210911T220000Z
X-MICROSOFT-CDO-ALLDAYEVENT:FALSE
SUMMARY:9/11 Remembrance Ceremony
DESCRIPTION:We would like to invite you to join us for our 9/11 Remembrance Ceremony.\n\n\n\nThis event allows us to pause and remember those who lost their lives on September 11\, 2001 and to express our appreciation and thanks to all first responders for your work and dedication.\n\n\n\nAfter the ceremony\, you and your families are invited to join us for a complimetary dinner.
X-ALT-DESC;FMTTYPE=text/html:We would like to invite you to join us for our 9/11 Remembrance Ceremony.<br />\n<br />\nThis event allows us to pause and remember those who lost their lives on September 11\, 2001 and to express our appreciation and thanks to all first responders for your work and dedication.<br />\n<br />\nAfter the ceremony\, you and your families are invited to join us for a complimetary dinner.
LOCATION:Aransas Pass Moose Family Center 2540 FM 2725\, Aransas Pass\, TX 78336
UID:e.1295.7218
SEQUENCE:3
DTSTAMP:20260424T141018Z
URL:https://events.gtswebdesign.com/events/details/9-11-remembrance-ceremony-7218
END:VEVENT

END:VCALENDAR
