BEGIN:VCALENDAR
VERSION:2.0
PRODID:-//ChamberMaster//Event Calendar 2.0//EN
METHOD:PUBLISH
X-PUBLISHED-TTL:P3D
REFRESH-INTERVAL:P3D
CALSCALE:GREGORIAN
BEGIN:VEVENT
DTSTART:20230422T170000Z
DTEND:20230422T220000Z
X-MICROSOFT-CDO-ALLDAYEVENT:FALSE
SUMMARY:3rd Annual Flights for the Fight Parkinsons Awareness
DESCRIPTION:Come join us for our 3rd Annual Parkinson's Awareness Event at Coasters! We are going to have live music\, vendors\, APFD will have an obstacle course for the kids\, food truck\, silent auctions\, raffles\, 50/50 and a corn hole tournament. Oh\, and did I mention AXE throwing!! Come join in on the fun and the amazing views on the water!
X-ALT-DESC;FMTTYPE=text/html:Come join us for our 3rd Annual Parkinson&rsquo\;s Awareness Event at Coasters! We are going to have live music\, vendors\, APFD will have an obstacle course for the kids\, food truck\, silent auctions\, raffles\, 50/50 and a corn hole tournament. Oh\, and did I mention AXE throwing!! Come join in on the fun and the amazing views on the water!
LOCATION:Coasters - Conn Brown Harbor
UID:e.1295.7444
SEQUENCE:3
DTSTAMP:20260423T102624Z
URL:https://events.gtswebdesign.com/events/details/3rd-annual-flights-for-the-fight-parkinsons-awareness-7444
END:VEVENT

END:VCALENDAR
