BEGIN:VCALENDAR
VERSION:2.0
PRODID:-//ChamberMaster//Event Calendar 2.0//EN
METHOD:PUBLISH
X-PUBLISHED-TTL:P3D
REFRESH-INTERVAL:P3D
CALSCALE:GREGORIAN
BEGIN:VEVENT
DTSTART:20210422T130000Z
DTEND:20210422T180000Z
X-MICROSOFT-CDO-ALLDAYEVENT:FALSE
SUMMARY:2nd Annual Tire Take Back Event
DESCRIPTION:Disposal of tires. Car & pick up tires only. Rims need to be separated before disposal. Do not unload before the scheduled time.
X-ALT-DESC;FMTTYPE=text/html:Disposal of tires. Car &amp\; pick up tires only. Rims need to be separated before disposal. Do not unload before the scheduled time.
LOCATION:530 W. Cleveland
UID:e.1295.7174
SEQUENCE:3
DTSTAMP:20260425T012422Z
URL:https://events.gtswebdesign.com/events/details/2nd-annual-tire-take-back-event-7174
END:VEVENT

END:VCALENDAR
