BEGIN:VCALENDAR
VERSION:2.0
PRODID:-//ChamberMaster//Event Calendar 2.0//EN
METHOD:PUBLISH
X-PUBLISHED-TTL:P3D
REFRESH-INTERVAL:P3D
CALSCALE:GREGORIAN
BEGIN:VEVENT
DTSTART:20230422T130000Z
DTEND:20230423T000000Z
X-MICROSOFT-CDO-ALLDAYEVENT:FALSE
SUMMARY:2nd Annual Nautical Flea Market
DESCRIPTION:Nautical Flea Market\, Live Music\, Crawfish Boil
X-ALT-DESC;FMTTYPE=text/html:Nautical Flea Market\, Live Music\, Crawfish Boil
LOCATION:Chandlers Landing & Dorados
UID:e.1295.7441
SEQUENCE:3
DTSTAMP:20260423T102325Z
URL:https://events.gtswebdesign.com/events/details/2nd-annual-nautical-flea-market-7441
END:VEVENT

END:VCALENDAR
