BEGIN:VCALENDAR
VERSION:2.0
PRODID:-//ChamberMaster//Event Calendar 2.0//EN
METHOD:PUBLISH
X-PUBLISHED-TTL:P3D
REFRESH-INTERVAL:P3D
CALSCALE:GREGORIAN
BEGIN:VEVENT
DTSTART:20230325T130000Z
DTEND:20230326T230000Z
X-MICROSOFT-CDO-ALLDAYEVENT:FALSE
SUMMARY:2023 Strength Wars
DESCRIPTION:2023 Strength Wars \n\nPlease visit www.strengthwars2023.com for Sponsorship & Vendor Programs.\n\nMost exclusive opportunity to compete against some of the most elite strength athletes on the planet.  Lots of exciting details to be announced in the near future. At this point Strength Wars 2023 will be Fully recorded and available to be watched via subscription on ADL Live........ this will allow your friends and family to watch you compete from home. How Awesome is that?\, Our friend Don Souza will be heading up that effort for us. With our Pro-Am Stongman event\, there is a good chance that a well know sports broadcaster will want to be a part of the fun as well..... we will see. We have lots of great things to announce very soon\, stay connected and like our page to help get the word out.
X-ALT-DESC;FMTTYPE=text/html:2023 Strength Wars&nbsp\;<br />\nPlease visit&nbsp\;<a href="http://www.strengthwars2023.com">www.strengthwars2023.com</a>&nbsp\;for Sponsorship &amp\; Vendor Programs.<br />\n<span style="color: rgb(5\, 5\, 5)\; font-family: &quot\;Segoe UI Historic&quot\;\, &quot\;Segoe UI&quot\;\, Helvetica\, Arial\, sans-serif\; font-size: 15px\; background-color: rgb(255\, 255\, 255)\;">Most exclusive opportunity to compete against some of the most elite strength athletes on the planet.&nbsp\;&nbsp\;</span><span style="color: rgb(5\, 5\, 5)\; font-family: &quot\;Segoe UI Historic&quot\;\, &quot\;Segoe UI&quot\;\, Helvetica\, Arial\, sans-serif\; font-size: 15px\; white-space: pre-wrap\; background-color: rgb(255\, 255\, 255)\;">Lots of exciting details to be announced in the near future. At this point Strength Wars 2023 will be Fully recorded and available to be watched via subscription on ADL Live........ this will allow your friends and family to watch you compete from home. How Awesome is that?\, Our friend Don Souza will be heading up that effort for us. With our Pro-Am Stongman event\, there is a good chance that a well know sports broadcaster will want to be a part of the fun as well..... we </span><span style="color: rgb(5\, 5\, 5)\; font-family: &quot\;Segoe UI Historic&quot\;\, &quot\;Segoe UI&quot\;\, Helvetica\, Arial\, sans-serif\; font-size: 15px\; white-space: pre-wrap\; background-color: rgb(255\, 255\, 255)\;">will see. We have lots of great things to announce very soon\, stay connected and like our page to help get the word out.</span><br />\n&nbsp\;
LOCATION:Aransas Pass Civic Center 700 W Wheeler Ave. Aransas Pass\, Tx. 78336
UID:e.1295.7328
SEQUENCE:3
DTSTAMP:20260423T133719Z
URL:https://events.gtswebdesign.com/events/details/2023-strength-wars-7328
END:VEVENT

END:VCALENDAR
