BEGIN:VCALENDAR
VERSION:2.0
PRODID:-//ChamberMaster//Event Calendar 2.0//EN
METHOD:PUBLISH
X-PUBLISHED-TTL:P3D
REFRESH-INTERVAL:P3D
CALSCALE:GREGORIAN
BEGIN:VEVENT
DTSTART:20231114T060000Z
DTEND:20231115T055500Z
X-MICROSOFT-CDO-ALLDAYEVENT:FALSE
SUMMARY:2023 Coastal Bend Day of Giving
DESCRIPTION:Administered through Coastal Bend Community Foundation\, the Coastal Bend Day of Giving is a one day only\, 24-hour\, online matching fundraising campaign offering the unique opportunity to make gifts that are doubled to local participating charities in the seven-county service area (Aransas\, Bee\, Jim Wells\, Kleberg\, Nueces\, Refugio\, San Patricio). Join us in celebrating the 15th Annual Coastal Bend Day of Giving on November 14 (12:00am   11:59pm). This year\, 23 matching funders have pledged $1.4 million in matching grants\, allowing 62 charities to be matched dollar for dollar up to $22\,500\, each raising at least $45\,000 in just 24 hours! To give to your favorite charity or charities visit www.coastalbenddayofgiving.org and click the "DONATE NOW" button. Gifts via credit/debit card or an electronic check are accepted using a shopping cart method to allow donations to multiple charities in one transaction. Fight Hunger * Support Children * Improve Health * Reduce Homelessness   Right Here in the Coastal Bend.
X-ALT-DESC;FMTTYPE=text/html:Administered through Coastal Bend Community Foundation\, the Coastal Bend Day of Giving is a one day only\, 24-hour\, online matching fundraising campaign offering the unique opportunity to make gifts that are doubled to local participating charities in the seven-county service area (Aransas\, Bee\, Jim Wells\, Kleberg\, Nueces\, Refugio\, San Patricio). Join us in celebrating the 15th Annual Coastal Bend Day of Giving on November 14 (12:00am &ndash\; 11:59pm). This year\, 23 matching funders have pledged $1.4 million in matching grants\, allowing 62 charities to be matched dollar for dollar up to $22\,500\, each raising at least $45\,000 in just 24 hours! To give to your favorite charity or charities visit www.coastalbenddayofgiving.org and click the &ldquo\;DONATE NOW&rdquo\; button. Gifts via credit/debit card or an electronic check are accepted using a shopping cart method to allow donations to multiple charities in one transaction. Fight Hunger * Support Children * Improve Health * Reduce Homelessness &ndash\; Right Here in the Coastal Bend.
LOCATION:Online: www.coastalbenddayofgiving.org
UID:e.1295.8043
SEQUENCE:3
DTSTAMP:20260422T233747Z
URL:https://events.gtswebdesign.com/events/details/2023-coastal-bend-day-of-giving-8043
END:VEVENT

END:VCALENDAR
