BEGIN:VCALENDAR
VERSION:2.0
PRODID:-//ChamberMaster//Event Calendar 2.0//EN
METHOD:PUBLISH
X-PUBLISHED-TTL:P3D
REFRESH-INTERVAL:P3D
CALSCALE:GREGORIAN
BEGIN:VEVENT
DTSTART:20221119T200000Z
DTEND:20221119T230000Z
X-MICROSOFT-CDO-ALLDAYEVENT:FALSE
SUMMARY:2022 Hall of Fame Ceremony
DESCRIPTION:Third Coast Squadron of the Commemorative Air Force welcomes the public to the 2022 Hall of Fame Ceremony. Please join us in honoring selected local veterans who have distinguished themselves in service to their country. Master of ceremonies for the event will be Pat Simon of KRIS TV and music will be provided by the Veterans Band of Corpus Christi. After this free ceremony\, the public is welcome to tour our museum of local military and flight history. Bring your family\, honor our veterans\, learn about local heroes and see some classic airplanes. Cake and drinks will be available.
X-ALT-DESC;FMTTYPE=text/html:Third Coast Squadron of the Commemorative Air Force welcomes the public to the 2022 Hall of Fame Ceremony. Please join us in honoring selected local veterans who have distinguished themselves in service to their country. Master of ceremonies for the event will be Pat Simon of KRIS TV and music will be provided by the Veterans Band of Corpus Christi. After this free ceremony\, the public is welcome to tour our museum of local military and flight history. Bring your family\, honor our veterans\, learn about local heroes and see some classic airplanes. Cake and drinks will be available.
LOCATION:McCampbell-Porter Airport Hanger 11 3201 FM 3512 Aransas Pass\, TX
UID:e.1295.7353
SEQUENCE:3
DTSTAMP:20260423T195652Z
URL:https://events.gtswebdesign.com/events/details/2022-hall-of-fame-ceremony-7353
END:VEVENT

END:VCALENDAR
