BEGIN:VCALENDAR
VERSION:2.0
PRODID:-//ChamberMaster//Event Calendar 2.0//EN
METHOD:PUBLISH
X-PUBLISHED-TTL:P3D
REFRESH-INTERVAL:P3D
CALSCALE:GREGORIAN
BEGIN:VEVENT
DTSTART:20230614T163000Z
DTEND:20230614T173000Z
X-MICROSOFT-CDO-ALLDAYEVENT:FALSE
SUMMARY:1 Year Anniversary Live Radio Remote - Twisted Designs
DESCRIPTION:Join Twisted Designs celebrating 1 year in business Wednesday\, June 14\, 2023. Special sales throughout the store\, Live radio remote with 107.3 The Bull & FREE TACOS to the first 50 people to attend 11:30 - 12:30.
X-ALT-DESC;FMTTYPE=text/html:Join Twisted Designs celebrating 1 year in business Wednesday\, June 14\, 2023. Special sales throughout the store\, Live radio remote with 107.3 The Bull &amp\; FREE TACOS to the first 50 people to attend 11:30 - 12:30.
LOCATION:Twisted Designs Boutique 243 S. Commercial St. Aransas Pass\, TX 78336
UID:e.1295.7482
SEQUENCE:3
DTSTAMP:20260423T071225Z
URL:https://events.gtswebdesign.com/events/details/1-year-anniversary-live-radio-remote-twisted-designs-7482
END:VEVENT

END:VCALENDAR
